BEGIN:VCALENDAR
VERSION:2.0
PRODID:-//Enniscorthy Community Allotments - ECPv6.15.20//NONSGML v1.0//EN
CALSCALE:GREGORIAN
METHOD:PUBLISH
X-ORIGINAL-URL:https://enniscorthycommunityallotments.ie
X-WR-CALDESC:Events for Enniscorthy Community Allotments
REFRESH-INTERVAL;VALUE=DURATION:PT1H
X-Robots-Tag:noindex
X-PUBLISHED-TTL:PT1H
BEGIN:VTIMEZONE
TZID:UTC
BEGIN:STANDARD
TZOFFSETFROM:+0000
TZOFFSETTO:+0000
TZNAME:UTC
DTSTART:20240101T000000
END:STANDARD
END:VTIMEZONE
BEGIN:VEVENT
DTSTART;TZID=UTC:20250715T190000
DTEND;TZID=UTC:20250715T210000
DTSTAMP:20260419T153336
CREATED:20250721T205755Z
LAST-MODIFIED:20251225T185533Z
UID:1319-1752606000-1752613200@enniscorthycommunityallotments.ie
SUMMARY:Willow Weaving Workshop – Starts July 15
DESCRIPTION:🌿 Willow Weaving Workshop – Starts July 15\nJoin us for a calming and creative Willow Weaving Workshop in Enniscorthy\, starting Tuesday\, July 15\, 2025\, from 7:00 PM to 9:00 PM at the Enniscorthy Community Allotments. \nOver the course of six weekly sessions\, participants will learn how to work with natural willow to create beautiful\, functional pieces — from plant supports to garden decorations and small household items. This workshop is open to all experience levels and provides a unique chance to slow down\, connect with nature\, and learn a timeless craft. \n🧺 What will you Learn at the Willow Weaving Workshop:\n\nTechniques for harvesting and preparing willow\nWeaving basics and traditional Irish basketry forms\nHow to create your own handmade pieces using natural materials\nPractical\, hands-on sessions in a relaxed community setting\n\n📅 When:\nMondays\, 7:00–9:00 PMStarting July 15\, 2025\, for 6 weeks \n📍 Where:\nEnniscorthy Community Allotments\, Gort Na Gréine \n🎟️ Cost:\nFree / donation-basedSpaces are limited — contact us to book your place! \n\n🌿 About the Tutor\nThis course is led by Sindy Offer\, willow artist and founder of Sindy’s Willow Creations\, whose passion for sustainable craftwork is woven into everything she teaches.
URL:https://enniscorthycommunityallotments.ie/event/willow-weaving-workshop-starts-july-15/
LOCATION:Enniscorthy Community Allotments\, Enniscorthy Community Allotments\, Gort Na Gréine\, Enniscorthy\, Wexford\, Y21 HC9N\, Ireland
ATTACH;FMTTYPE=image/jpeg:https://enniscorthycommunityallotments.ie/wp-content/uploads/2025/07/505566644_730298686051905_3404312656071116118_n.jpg
END:VEVENT
BEGIN:VEVENT
DTSTART;TZID=UTC:20250723T190000
DTEND;TZID=UTC:20250723T210000
DTSTAMP:20260419T153336
CREATED:20250721T201010Z
LAST-MODIFIED:20251225T185541Z
UID:1298-1753297200-1753304400@enniscorthycommunityallotments.ie
SUMMARY:Herbalist Workshop 1 – 6 Week Series Starting July 23
DESCRIPTION:🌿 Herbalist Workshop 1 – Starts July 23\nJoin us for our Herbalist Workshop in Enniscorthy\, starting Wednesday\, July 23\, 2025\, from 7:00 PM to 9:00 PM at the Enniscorthy Community Allotments. \nThis 6-week hands-on course will explore the healing properties of herbs\, their traditional uses\, and how to grow and use them at home. Open to all levels — from beginners to curious gardeners — this is a relaxing and practical way to connect with nature and your community. \n🧑‍⚕️ This workshop is led by Silja Harms\, founder of Zilya – Mobile Herbal Clinic\, a Wexford-based herbalist\, educator\, and mentor at The Plant Medicine School. \nWith a background in clinical herbalism and a passion for making natural health simple and joyful\, Silja brings deep knowledge and a warm\, accessible teaching style. \nWhether you’re new to herbalism or returning to deepen your knowledge\, this Herbalist Workshop in Enniscorthy offers something for everyone. \n🧪 What to expect at the Herbalist Workshop in Enniscorthy:\n\nWeekly 2-hour sessions in the allotments\nGuided learning with a practicing herbalist\nHerb identification\, usage\, and preparation\nTime to share tea\, stories\, and growing tips\n\n📅 When:\nWednesdays\, 7:00–9:00 PMStarting July 23\, 2025\, for 6 consecutive weeks \n📍 Where:\nEnniscorthy Community Allotments\, Gort Na Gréine \n🎟️ Cost:\nFree / donation-based (optional)Spaces are limited — contact us to reserve your place! \nCan’t make Wednesdays? Check out Workshop 2 on Thursdays
URL:https://enniscorthycommunityallotments.ie/event/herbalist-workshop-1-6-week-series-starting-july-23/
LOCATION:Enniscorthy Community Allotments\, Enniscorthy Community Allotments\, Gort Na Gréine\, Enniscorthy\, Wexford\, Y21 HC9N\, Ireland
END:VEVENT
BEGIN:VEVENT
DTSTART;TZID=UTC:20250724T190000
DTEND;TZID=UTC:20250724T210000
DTSTAMP:20260419T153336
CREATED:20250721T202453Z
LAST-MODIFIED:20251225T185548Z
UID:1312-1753383600-1753390800@enniscorthycommunityallotments.ie
SUMMARY:Herbalist Workshop 2 – 6 Week Series Starting July 24
DESCRIPTION:🌿 Herbalist Workshop 2 – Starts July 24\nWe’re delighted to host a second Herbalist Workshop in Enniscorthy\, starting on Thursday\, July 24\, 2025\, from 7:00 PM to 9:00 PM at the Enniscorthy Community Allotments. \nThis 6-week course is perfect for those who couldn’t make our Wednesday series — or for anyone interested in exploring the healing power of herbs in a hands-on\, community-focused setting. \n🧑‍⚕️ This workshop is led by Silja Harms\, founder of Zilya – Mobile Herbal Clinic\, a Wexford-based herbalist\, educator\, and mentor at The Plant Medicine School. \nWith a background in clinical herbalism and a passion for making natural health simple and joyful\, Silja brings deep knowledge and a warm\, accessible teaching style. \nWhether you’re new to herbalism or returning to deepen your knowledge\, this Herbalist Workshop in Enniscorthy offers something for everyone. \n🧪 What you’ll experience:\n\nGuided workshops with a practicing herbalist\nLearn to grow\, identify\, and use common healing plants\nHerb harvesting\, tea blending\, and DIY remedies\nTime to share knowledge and enjoy the garden space together\n\n📅 When:\nThursdays\, 7:00–9:00 PMStarting July 24\, 2025\, running for 6 consecutive weeks \n📍 Where:\nEnniscorthy Community Allotments\, Gort Na Gréine \n🎟️ Cost:\nFree / donation-basedReserve your spot today — places are limited! \nPrefer Wednesdays? See details for Workshop 1 here.
URL:https://enniscorthycommunityallotments.ie/event/herbalist-workshop-2-6-week-series-starting-july-24/
LOCATION:Enniscorthy Community Allotments\, Enniscorthy Community Allotments\, Gort Na Gréine\, Enniscorthy\, Wexford\, Y21 HC9N\, Ireland
END:VEVENT
END:VCALENDAR