BEGIN:VCALENDAR
VERSION:2.0
PRODID:-//Enniscorthy Community Allotments - ECPv6.15.20//NONSGML v1.0//EN
CALSCALE:GREGORIAN
METHOD:PUBLISH
X-ORIGINAL-URL:https://enniscorthycommunityallotments.ie
X-WR-CALDESC:Events for Enniscorthy Community Allotments
REFRESH-INTERVAL;VALUE=DURATION:PT1H
X-Robots-Tag:noindex
X-PUBLISHED-TTL:PT1H
BEGIN:VTIMEZONE
TZID:UTC
BEGIN:STANDARD
TZOFFSETFROM:+0000
TZOFFSETTO:+0000
TZNAME:UTC
DTSTART:20240101T000000
END:STANDARD
END:VTIMEZONE
BEGIN:VEVENT
DTSTART;VALUE=DATE:20250101
DTEND;VALUE=DATE:20250115
DTSTAMP:20260420T010836
CREATED:20250117T130750Z
LAST-MODIFIED:20250117T130750Z
UID:1103-1735689600-1736899199@enniscorthycommunityallotments.ie
SUMMARY:Expressions of Interest
DESCRIPTION:All members are to confirm expression of interest in keeping their Plot / Polytunnel space / Raised Bed for the coming year by Tuesday 14th January.
URL:https://enniscorthycommunityallotments.ie/event/expressions-of-interest/
LOCATION:Allotment
END:VEVENT
END:VCALENDAR