BEGIN:VCALENDAR
VERSION:2.0
PRODID:-//Enniscorthy Community Allotments - ECPv6.15.20//NONSGML v1.0//EN
CALSCALE:GREGORIAN
METHOD:PUBLISH
X-ORIGINAL-URL:https://enniscorthycommunityallotments.ie
X-WR-CALDESC:Events for Enniscorthy Community Allotments
REFRESH-INTERVAL;VALUE=DURATION:PT1H
X-Robots-Tag:noindex
X-PUBLISHED-TTL:PT1H
BEGIN:VTIMEZONE
TZID:UTC
BEGIN:STANDARD
TZOFFSETFROM:+0000
TZOFFSETTO:+0000
TZNAME:UTC
DTSTART:20230101T000000
END:STANDARD
END:VTIMEZONE
BEGIN:VEVENT
DTSTART;TZID=UTC:20240703T190000
DTEND;TZID=UTC:20240703T210000
DTSTAMP:20260424T125853
CREATED:20240624T190302Z
LAST-MODIFIED:20240624T190302Z
UID:850-1720033200-1720040400@enniscorthycommunityallotments.ie
SUMMARY:Food Preservation Course
DESCRIPTION:We have a Food Preservation course taking place in the allotments on Wednesday 3rd July for 8 weeks from 7pm to 9pm with the amazing Annika Schulz! \nEveryone is welcome to attend! Booking is essential as places are limited. If you are interested in taking part please contact Annette on 087 2135007.
URL:https://enniscorthycommunityallotments.ie/event/food-preservation-course/
LOCATION:Wexford
ATTACH;FMTTYPE=image/jpeg:https://enniscorthycommunityallotments.ie/wp-content/uploads/2024/06/IMG_6434.jpg
END:VEVENT
END:VCALENDAR