BEGIN:VCALENDAR
VERSION:2.0
PRODID:-//Enniscorthy Community Allotments - ECPv6.15.20//NONSGML v1.0//EN
CALSCALE:GREGORIAN
METHOD:PUBLISH
X-WR-CALNAME:Enniscorthy Community Allotments
X-ORIGINAL-URL:https://enniscorthycommunityallotments.ie
X-WR-CALDESC:Events for Enniscorthy Community Allotments
REFRESH-INTERVAL;VALUE=DURATION:PT1H
X-Robots-Tag:noindex
X-PUBLISHED-TTL:PT1H
BEGIN:VTIMEZONE
TZID:UTC
BEGIN:STANDARD
TZOFFSETFROM:+0000
TZOFFSETTO:+0000
TZNAME:UTC
DTSTART:20230101T000000
END:STANDARD
END:VTIMEZONE
BEGIN:VEVENT
DTSTART;TZID=UTC:20240504T120000
DTEND;TZID=UTC:20240504T160000
DTSTAMP:20260424T154208
CREATED:20240429T192736Z
LAST-MODIFIED:20240429T192736Z
UID:754-1714824000-1714838400@enniscorthycommunityallotments.ie
SUMMARY:Rockin Food & Fruit Festival in the Allotments
DESCRIPTION:On Saturday the 4th May we are delighted to be teaming up with the Rockin Food & Fruit Festival! We have a full day of events lined up for all to enjoy! There is something for the whole family! \nWe are delighted to take part in the Festival this year\, we are really loking forward to it! We hope to see you there for a great day out at the allotments!
URL:https://enniscorthycommunityallotments.ie/event/rockin-food-fruit-festival-in-the-allotments/
LOCATION:Wexford
ATTACH;FMTTYPE=image/jpeg:https://enniscorthycommunityallotments.ie/wp-content/uploads/2024/04/383c4a63-ea6d-4665-86ad-9713d45e752a.jpg
END:VEVENT
BEGIN:VEVENT
DTSTART;TZID=UTC:20240504T140000
DTEND;TZID=UTC:20240504T160000
DTSTAMP:20260424T154208
CREATED:20240424T183729Z
LAST-MODIFIED:20240424T183729Z
UID:734-1714831200-1714838400@enniscorthycommunityallotments.ie
SUMMARY:May Bush
DESCRIPTION:We are decorating our May Bush and our little buds will also be doing some planting. Everyone is welcome! We will have some tea/coffee and somee delicious treats for all to enjoy. Come along for a great afternoon in the allotments! \n  \n 
URL:https://enniscorthycommunityallotments.ie/event/may-bush/
LOCATION:Allotment
ATTACH;FMTTYPE=image/jpeg:https://enniscorthycommunityallotments.ie/wp-content/uploads/2024/04/IMG_5265.jpg
END:VEVENT
BEGIN:VEVENT
DTSTART;TZID=UTC:20240507T190000
DTEND;TZID=UTC:20240507T210000
DTSTAMP:20260424T154208
CREATED:20240426T184342Z
LAST-MODIFIED:20240426T190058Z
UID:743-1715108400-1715115600@enniscorthycommunityallotments.ie
SUMMARY:Mindfulness Meditation Programme
DESCRIPTION:From Tuesday 7th May we are holding an 8 week Mindfulness Meditation Programme every Tuesday evening from 7pm to 9pm with Mindfulness instructor Hillary Connor. \nThis 8 week programme aims to help you develop skilful ways of dealing with difficulty and improve your quality of life. \n* Become more present and live fully. \n* Develop kinder and self compassionate ways to meet challenges. \n* Improve your wellbeing. \n* Increase quality sleep. \nIf you are interested contact Annette Moran on 087 2135007.
URL:https://enniscorthycommunityallotments.ie/event/mindfulness-meditation-programme/
LOCATION:Allotment
ATTACH;FMTTYPE=image/jpeg:https://enniscorthycommunityallotments.ie/wp-content/uploads/2024/04/5d7468eb-1894-4db3-b25a-d77a904b8ae7.jpg
END:VEVENT
BEGIN:VEVENT
DTSTART;TZID=UTC:20240511T100000
DTEND;TZID=UTC:20240511T120000
DTSTAMP:20260424T154208
CREATED:20240426T185400Z
LAST-MODIFIED:20240426T190357Z
UID:745-1715421600-1715428800@enniscorthycommunityallotments.ie
SUMMARY:Introductory Horticulture Course
DESCRIPTION:We are holding an 8 week Introductory Horticulture Course from Saturday 11th May for 8 weeks every Saturday morning from 10am to 12pm with horticulturist Mairead Dunne and Annette Moran. \nIf you are interested please contact Annette Moran on 087 2135007.
URL:https://enniscorthycommunityallotments.ie/event/introductory-horticulture-course/
LOCATION:Allotment
ATTACH;FMTTYPE=image/jpeg:https://enniscorthycommunityallotments.ie/wp-content/uploads/2024/04/60d00499-cca6-4373-9ccf-d849048fdccf.jpg
END:VEVENT
BEGIN:VEVENT
DTSTART;TZID=UTC:20240514T130000
DTEND;TZID=UTC:20240514T150000
DTSTAMP:20260424T154208
CREATED:20240513T201058Z
LAST-MODIFIED:20240513T201058Z
UID:800-1715691600-1715698800@enniscorthycommunityallotments.ie
SUMMARY:Climate Action Week
DESCRIPTION:Wexford County Council Climate Action Week takes place from Monday 13th May to Sunday 19th May. \nClimate Action Week is about raising awareness on actions and measures we can all do at a personal and local level and to showcase some of the projects and initiatives underway across the county. The week serves as a platform to inspire action and drive positive change. \nOn Tuesday 14th May between  1pm and 3pm for Climate Action Week you can take part in a tour of our amazing allotments! No booking is required so if you are free and would like to find out what the allotments is all about please come along! We would love to see you there!
URL:https://enniscorthycommunityallotments.ie/event/climate-action-week/
LOCATION:Allotment
ATTACH;FMTTYPE=image/jpeg:https://enniscorthycommunityallotments.ie/wp-content/uploads/2024/05/1a44a9a2-e318-4d66-a083-0406965024c8.jpg
END:VEVENT
END:VCALENDAR