BEGIN:VCALENDAR
VERSION:2.0
PRODID:-//Enniscorthy Community Allotments - ECPv6.15.20//NONSGML v1.0//EN
CALSCALE:GREGORIAN
METHOD:PUBLISH
X-WR-CALNAME:Enniscorthy Community Allotments
X-ORIGINAL-URL:https://enniscorthycommunityallotments.ie
X-WR-CALDESC:Events for Enniscorthy Community Allotments
REFRESH-INTERVAL;VALUE=DURATION:PT1H
X-Robots-Tag:noindex
X-PUBLISHED-TTL:PT1H
BEGIN:VTIMEZONE
TZID:UTC
BEGIN:STANDARD
TZOFFSETFROM:+0000
TZOFFSETTO:+0000
TZNAME:UTC
DTSTART:20230101T000000
END:STANDARD
END:VTIMEZONE
BEGIN:VEVENT
DTSTART;TZID=UTC:20240302T100000
DTEND;TZID=UTC:20240302T140000
DTSTAMP:20260419T225309
CREATED:20240214T193440Z
LAST-MODIFIED:20240214T193440Z
UID:617-1709373600-1709388000@enniscorthycommunityallotments.ie
SUMMARY:Member Registration
DESCRIPTION:All member’s are invited to register for the coming year.
URL:https://enniscorthycommunityallotments.ie/event/member-registration-3/
LOCATION:Greenhouse
END:VEVENT
BEGIN:VEVENT
DTSTART;TZID=UTC:20240224T100000
DTEND;TZID=UTC:20240224T140000
DTSTAMP:20260419T225309
CREATED:20240214T193234Z
LAST-MODIFIED:20240214T193234Z
UID:615-1708768800-1708783200@enniscorthycommunityallotments.ie
SUMMARY:Member Registration
DESCRIPTION:All member’s are invited to register for the coming year.
URL:https://enniscorthycommunityallotments.ie/event/member-registration-2/
LOCATION:Greenhouse
END:VEVENT
BEGIN:VEVENT
DTSTART;TZID=UTC:20240217T100000
DTEND;TZID=UTC:20240217T140000
DTSTAMP:20260419T225309
CREATED:20240214T192923Z
LAST-MODIFIED:20240214T192923Z
UID:608-1708164000-1708178400@enniscorthycommunityallotments.ie
SUMMARY:Member Registration
DESCRIPTION:All member’s are invited to register for the coming year.
URL:https://enniscorthycommunityallotments.ie/event/member-registration/
LOCATION:Greenhouse
END:VEVENT
END:VCALENDAR