BEGIN:VCALENDAR
VERSION:2.0
PRODID:-//Enniscorthy Community Allotments - ECPv6.15.20//NONSGML v1.0//EN
CALSCALE:GREGORIAN
METHOD:PUBLISH
X-WR-CALNAME:Enniscorthy Community Allotments
X-ORIGINAL-URL:https://enniscorthycommunityallotments.ie
X-WR-CALDESC:Events for Enniscorthy Community Allotments
REFRESH-INTERVAL;VALUE=DURATION:PT1H
X-Robots-Tag:noindex
X-PUBLISHED-TTL:PT1H
BEGIN:VTIMEZONE
TZID:UTC
BEGIN:STANDARD
TZOFFSETFROM:+0000
TZOFFSETTO:+0000
TZNAME:UTC
DTSTART:20240101T000000
END:STANDARD
END:VTIMEZONE
BEGIN:VEVENT
DTSTART;TZID=UTC:20250905T190000
DTEND;TZID=UTC:20250905T210000
DTSTAMP:20260419T134713
CREATED:20250831T104946Z
LAST-MODIFIED:20251225T185621Z
UID:1346-1757098800-1757106000@enniscorthycommunityallotments.ie
SUMMARY:🌿 Nature Therapy Course in Enniscorthy – Starts September 5th
DESCRIPTION:A Soothing Outdoor Experience to Reconnect\nJoin us this September at the Enniscorthy Community Allotments for a restorative Nature Therapy Course in Enniscorthy\, led by Deirdre Cummins. Starting Friday\, September 5\, 2025\, from 7:00 PM to 9:00 PM\, this free weekly course will run for 4 weeks and is designed to help you unwind\, reconnect with nature\, and nurture your wellbeing—mind\, body\, and community. \n\n🧘What is Nature Therapy?\nNature therapy\, or ecotherapy\, is a gentle\, evidence-based practice that uses natural surroundings to enhance our sense of peace\, mindfulness\, and emotional resilience. \nEach session includes: \n\nGuided time outdoors\nThoughtful mindfulness or creative exercises\nGentle movement or sensory grounding\nSpace for sharing\, pause\, and reflection\n\nWhether you’re a garden lover\, curious beginner\, or simply seeking calm\, this course welcomes you. \n📅Course Dates & Times\n\nStart date: Friday\, September 5\, 2025\nTime: 7:00–9:00 PM\nFrequency: Every Friday for 4 weeks\n\n📍Location\nEnniscorthy Community Allotments\nGort Na Gréine\, Enniscorthy\, Co. Wexford – a peaceful\, green retreat perfect for unwinding. \n💬 About Your Facilitator\nThis course is led by Deirdre Cummins\, a seasoned nature therapy facilitator passionate about helping communities rediscover calm and connection in nature-based ways. \nWhere to Find Dee\n\nTikTok\n\n🎟️ Cost & Booking\nThe course is completely free and open to all adults. Spaces are limited—contact us or text Michael at 087 2927138 to reserve your spot. \n🌼Why Try Nature Therapy?\n\nReduce stress and anxiety\nEnhance focus and mood\nCultivate a sense of belonging\nCreate meaningful connections with the environment\n\nThis course offers a chance to pause\, breathe\, and let nature gently support your wellbeing—no experience needed.
URL:https://enniscorthycommunityallotments.ie/event/nature-therapy-course-in-enniscorthy-starts-september-5th/
LOCATION:Enniscorthy Community Allotments\, Enniscorthy Community Allotments\, Gort Na Gréine\, Enniscorthy\, Wexford\, Y21 HC9N\, Ireland
ATTACH;FMTTYPE=image/png:https://enniscorthycommunityallotments.ie/wp-content/uploads/2025/08/ChatGPT-Image-Aug-31-2025-11_46_54-AM.png
END:VEVENT
END:VCALENDAR