BEGIN:VCALENDAR
VERSION:2.0
PRODID:-//Enniscorthy Community Allotments - ECPv6.15.20//NONSGML v1.0//EN
CALSCALE:GREGORIAN
METHOD:PUBLISH
X-ORIGINAL-URL:https://enniscorthycommunityallotments.ie
X-WR-CALDESC:Events for Enniscorthy Community Allotments
REFRESH-INTERVAL;VALUE=DURATION:PT1H
X-Robots-Tag:noindex
X-PUBLISHED-TTL:PT1H
BEGIN:VTIMEZONE
TZID:UTC
BEGIN:STANDARD
TZOFFSETFROM:+0000
TZOFFSETTO:+0000
TZNAME:UTC
DTSTART:20240101T000000
END:STANDARD
END:VTIMEZONE
BEGIN:VEVENT
DTSTART;TZID=UTC:20250531T100000
DTEND;TZID=UTC:20250531T120000
DTSTAMP:20260419T183713
CREATED:20250519T184032Z
LAST-MODIFIED:20250519T184032Z
UID:1231-1748685600-1748692800@enniscorthycommunityallotments.ie
SUMMARY:Introductory Horticulture Course
DESCRIPTION:We have a free introductory horticulture course starting in the allotments on Saturday 31st May for 8 weeks from 10am to 12pm. \nIf you are interested in taking part please contact Gean on 086 2071976 to book a place. Spaces are limited.
URL:https://enniscorthycommunityallotments.ie/event/introductory-horticulture-course-2/
LOCATION:Allotment
ATTACH;FMTTYPE=image/jpeg:https://enniscorthycommunityallotments.ie/wp-content/uploads/2025/05/00557d52-80d3-48de-a947-60e223556c26.jpg
END:VEVENT
END:VCALENDAR