BEGIN:VCALENDAR
VERSION:2.0
PRODID:-//Enniscorthy Community Allotments - ECPv6.15.20//NONSGML v1.0//EN
CALSCALE:GREGORIAN
METHOD:PUBLISH
X-ORIGINAL-URL:https://enniscorthycommunityallotments.ie
X-WR-CALDESC:Events for Enniscorthy Community Allotments
REFRESH-INTERVAL;VALUE=DURATION:PT1H
X-Robots-Tag:noindex
X-PUBLISHED-TTL:PT1H
BEGIN:VTIMEZONE
TZID:UTC
BEGIN:STANDARD
TZOFFSETFROM:+0000
TZOFFSETTO:+0000
TZNAME:UTC
DTSTART:20240101T000000
END:STANDARD
END:VTIMEZONE
BEGIN:VEVENT
DTSTART;TZID=UTC:20250222T110000
DTEND;TZID=UTC:20250222T120000
DTSTAMP:20260420T010736
CREATED:20250220T145145Z
LAST-MODIFIED:20250220T145145Z
UID:1130-1740222000-1740225600@enniscorthycommunityallotments.ie
SUMMARY:New Members Induction
DESCRIPTION:All new members are invited to an induction meeting in the Dome on Saturday 22nd February from 11am – 12pm.
URL:https://enniscorthycommunityallotments.ie/event/new-members-induction/
LOCATION:Allotment
END:VEVENT
END:VCALENDAR