BEGIN:VCALENDAR
VERSION:2.0
PRODID:-//Enniscorthy Community Allotments - ECPv6.15.20//NONSGML v1.0//EN
CALSCALE:GREGORIAN
METHOD:PUBLISH
X-ORIGINAL-URL:https://enniscorthycommunityallotments.ie
X-WR-CALDESC:Events for Enniscorthy Community Allotments
REFRESH-INTERVAL;VALUE=DURATION:PT1H
X-Robots-Tag:noindex
X-PUBLISHED-TTL:PT1H
BEGIN:VTIMEZONE
TZID:UTC
BEGIN:STANDARD
TZOFFSETFROM:+0000
TZOFFSETTO:+0000
TZNAME:UTC
DTSTART:20230101T000000
END:STANDARD
END:VTIMEZONE
BEGIN:VEVENT
DTSTART;TZID=UTC:20241026T160000
DTEND;TZID=UTC:20241026T180000
DTSTAMP:20260424T095844
CREATED:20241023T181522Z
LAST-MODIFIED:20241023T181522Z
UID:1041-1729958400-1729965600@enniscorthycommunityallotments.ie
SUMMARY:Trick or Treat in the allotments
DESCRIPTION:On Saturday 26th October @ 4pm we have our Halloween party in the allotments. \nIt will be a fun filled evening of Pumpkin carving/painting\, magic potions and much more. \nA great evening for all the families in our allotment community to come together and enjoy. It promises to be another great evening where loads of memories will be made. \n 
URL:https://enniscorthycommunityallotments.ie/event/trick-or-treat-in-the-allotments/
LOCATION:Allotment
ATTACH;FMTTYPE=image/jpeg:https://enniscorthycommunityallotments.ie/wp-content/uploads/2024/10/IMG_8293.jpg
END:VEVENT
END:VCALENDAR