BEGIN:VCALENDAR
VERSION:2.0
PRODID:-//Enniscorthy Community Allotments - ECPv6.15.20//NONSGML v1.0//EN
CALSCALE:GREGORIAN
METHOD:PUBLISH
X-ORIGINAL-URL:https://enniscorthycommunityallotments.ie
X-WR-CALDESC:Events for Enniscorthy Community Allotments
REFRESH-INTERVAL;VALUE=DURATION:PT1H
X-Robots-Tag:noindex
X-PUBLISHED-TTL:PT1H
BEGIN:VTIMEZONE
TZID:UTC
BEGIN:STANDARD
TZOFFSETFROM:+0000
TZOFFSETTO:+0000
TZNAME:UTC
DTSTART:20230101T000000
END:STANDARD
END:VTIMEZONE
BEGIN:VEVENT
DTSTART;TZID=UTC:20241007T100000
DTEND;TZID=UTC:20241007T143000
DTSTAMP:20260424T095333
CREATED:20240911T185715Z
LAST-MODIFIED:20240911T185715Z
UID:976-1728295200-1728311400@enniscorthycommunityallotments.ie
SUMMARY:Rotavator Training
DESCRIPTION:We have rotavator training taking place in the allotments on Monday 7th October from 10am to 2.30pm. \nIf you are interested in taking part please contact Annette on 087 2135007. Spaces are limited so don’t delay in booking your place.
URL:https://enniscorthycommunityallotments.ie/event/rotavator-training/
LOCATION:Allotment
ATTACH;FMTTYPE=image/jpeg:https://enniscorthycommunityallotments.ie/wp-content/uploads/2024/09/IMG_7840.jpg
END:VEVENT
END:VCALENDAR