BEGIN:VCALENDAR
VERSION:2.0
PRODID:-//Enniscorthy Community Allotments - ECPv6.15.20//NONSGML v1.0//EN
CALSCALE:GREGORIAN
METHOD:PUBLISH
X-ORIGINAL-URL:https://enniscorthycommunityallotments.ie
X-WR-CALDESC:Events for Enniscorthy Community Allotments
REFRESH-INTERVAL;VALUE=DURATION:PT1H
X-Robots-Tag:noindex
X-PUBLISHED-TTL:PT1H
BEGIN:VTIMEZONE
TZID:UTC
BEGIN:STANDARD
TZOFFSETFROM:+0000
TZOFFSETTO:+0000
TZNAME:UTC
DTSTART:20230101T000000
END:STANDARD
END:VTIMEZONE
BEGIN:VEVENT
DTSTART;TZID=UTC:20240809T080000
DTEND;TZID=UTC:20240831T170000
DTSTAMP:20260424T111734
CREATED:20240811T200604Z
LAST-MODIFIED:20240811T200604Z
UID:908-1723190400-1725123600@enniscorthycommunityallotments.ie
SUMMARY:Annual Scarecrow Competition
DESCRIPTION:Our annual scarecrow competition takes place in the allotments from the 9th August until the 31st August!
URL:https://enniscorthycommunityallotments.ie/event/annual-scarecrow-competition/
LOCATION:Allotment
ATTACH;FMTTYPE=image/jpeg:https://enniscorthycommunityallotments.ie/wp-content/uploads/2024/08/2df6a095-009d-4102-877d-13042ee350ee.jpg
END:VEVENT
END:VCALENDAR